BEGIN:VCALENDAR
VERSION:2.0
PRODID:-//jEvents 2.0 for Joomla//EN
CALSCALE:GREGORIAN
METHOD:PUBLISH
BEGIN:VEVENT
UID:383636717e25593b7f63bd242239442c
CATEGORIES:DEFAULT
SUMMARY:St Athanasius Feast Day
DESCRIPTION;ENCODING=QUOTED-PRINTABLE:
DTSTAMP:20260422T054505Z
DTSTART;VALUE=DATE:20240502
DTEND;VALUE=DATE:20240503
SEQUENCE:0
TRANSP:OPAQUE
END:VEVENT
END:VCALENDAR