BEGIN:VCALENDAR
VERSION:2.0
PRODID:-//jEvents 2.0 for Joomla//EN
CALSCALE:GREGORIAN
METHOD:PUBLISH
BEGIN:VEVENT
UID:422be93d97835a7d184634e5e68f36a6
CATEGORIES:DEFAULT
SUMMARY:Mass
DESCRIPTION;ENCODING=QUOTED-PRINTABLE:
DTSTAMP:20260424T091350Z
DTSTART:20240502T130000Z
SEQUENCE:0
TRANSP:OPAQUE
END:VEVENT
END:VCALENDAR