BEGIN:VCALENDAR
VERSION:2.0
PRODID:-//jEvents 2.0 for Joomla//EN
CALSCALE:GREGORIAN
METHOD:PUBLISH
BEGIN:VEVENT
UID:a8de023a2583bd02341b9a76a9bb9e66
CATEGORIES:DEFAULT
SUMMARY:8th Grade Parent Meeting
DESCRIPTION;ENCODING=QUOTED-PRINTABLE:
DTSTAMP:20260424T065942Z
DTSTART;VALUE=DATE:20240509
DTEND;VALUE=DATE:20240510
SEQUENCE:0
TRANSP:OPAQUE
END:VEVENT
END:VCALENDAR