BEGIN:VCALENDAR
VERSION:2.0
PRODID:-//jEvents 2.0 for Joomla//EN
CALSCALE:GREGORIAN
METHOD:PUBLISH
BEGIN:VEVENT
UID:e1b33539487295e0fa51026523fac6c0
CATEGORIES:DEFAULT
SUMMARY:8th Grade Tea
DESCRIPTION;ENCODING=QUOTED-PRINTABLE:
DTSTAMP:20260422T052149Z
DTSTART;VALUE=DATE:20240510
DTEND;VALUE=DATE:20240511
SEQUENCE:0
TRANSP:OPAQUE
END:VEVENT
END:VCALENDAR