BEGIN:VCALENDAR
VERSION:2.0
PRODID:-//jEvents 2.0 for Joomla//EN
CALSCALE:GREGORIAN
METHOD:PUBLISH
BEGIN:VEVENT
UID:02a11cf57caa097a635392fd5fe4bc0f
CATEGORIES:DEFAULT
SUMMARY:St. A's Bingo
DESCRIPTION;ENCODING=QUOTED-PRINTABLE:
DTSTAMP:20260422T054725Z
DTSTART;VALUE=DATE:20240511
DTEND;VALUE=DATE:20240512
SEQUENCE:0
TRANSP:OPAQUE
END:VEVENT
END:VCALENDAR