BEGIN:VCALENDAR
VERSION:2.0
PRODID:-//jEvents 2.0 for Joomla//EN
CALSCALE:GREGORIAN
METHOD:PUBLISH
BEGIN:VEVENT
UID:c3ce96b59a0fc055fdb1d4ee0696617a
CATEGORIES:DEFAULT
SUMMARY:Keep St. A's Strong Campaign
DESCRIPTION;ENCODING=QUOTED-PRINTABLE:
DTSTAMP:20260420T090713Z
DTSTART;VALUE=DATE:20240515
DTEND;VALUE=DATE:20240516
SEQUENCE:0
TRANSP:OPAQUE
END:VEVENT
END:VCALENDAR