BEGIN:VCALENDAR
VERSION:2.0
PRODID:-//jEvents 2.0 for Joomla//EN
CALSCALE:GREGORIAN
METHOD:PUBLISH
BEGIN:VEVENT
UID:2cdd3aacb82d0d0d0f00fdd9313cbe25
CATEGORIES:DEFAULT
SUMMARY:Mass
DESCRIPTION;ENCODING=QUOTED-PRINTABLE:
DTSTAMP:20260424T091809Z
DTSTART:20260206T140000Z
SEQUENCE:0
TRANSP:OPAQUE
END:VEVENT
END:VCALENDAR